BEGIN:VCALENDAR
VERSION:2.0
PRODID:-//OilExTech.com - Essential Oil Extraction - ECPv5.0.2.1//NONSGML v1.0//EN
CALSCALE:GREGORIAN
METHOD:PUBLISH
X-WR-CALNAME:OilExTech.com - Essential Oil Extraction
X-ORIGINAL-URL:https://oilextech.com
X-WR-CALDESC:Events for OilExTech.com - Essential Oil Extraction
BEGIN:VTIMEZONE
TZID:America/Los_Angeles
BEGIN:DAYLIGHT
TZOFFSETFROM:-0800
TZOFFSETTO:-0700
TZNAME:PDT
DTSTART:20190310T100000
END:DAYLIGHT
BEGIN:STANDARD
TZOFFSETFROM:-0700
TZOFFSETTO:-0800
TZNAME:PST
DTSTART:20191103T090000
END:STANDARD
END:VTIMEZONE
BEGIN:VEVENT
DTSTART;TZID=America/Los_Angeles:20190719T090000
DTEND;TZID=America/Los_Angeles:20190721T190000
DTSTAMP:20260423T021325
CREATED:20190327T155945Z
LAST-MODIFIED:20190621T212348Z
UID:6215-1563526800-1563735600@oilextech.com
SUMMARY:Sequim Lavender Festival®
DESCRIPTION:\nOilExTech will be a Sponsor of the Sequim Lavender Festival on July 19\, 20 & 21\, 2019.  Look for our handout \n\n
URL:https://oilextech.com/event/sequim-lavender-festival/
LOCATION:Carrie Blake Park\, Sequim\, WA\, 202 N Blake Ave\, \,\, Sequim\, WA\, 98382
CATEGORIES:OilExTech Events
END:VEVENT
END:VCALENDAR