BEGIN:VCALENDAR
VERSION:2.0
PRODID:-//OilExTech.com - Essential Oil Extraction - ECPv5.0.2.1//NONSGML v1.0//EN
CALSCALE:GREGORIAN
METHOD:PUBLISH
X-WR-CALNAME:OilExTech.com - Essential Oil Extraction
X-ORIGINAL-URL:https://oilextech.com
X-WR-CALDESC:Events for OilExTech.com - Essential Oil Extraction
BEGIN:VTIMEZONE
TZID:America/Los_Angeles
BEGIN:DAYLIGHT
TZOFFSETFROM:-0800
TZOFFSETTO:-0700
TZNAME:PDT
DTSTART:20190310T100000
END:DAYLIGHT
BEGIN:STANDARD
TZOFFSETFROM:-0700
TZOFFSETTO:-0800
TZNAME:PST
DTSTART:20191103T090000
END:STANDARD
END:VTIMEZONE
BEGIN:VEVENT
DTSTART;TZID=America/Los_Angeles:20190929T100000
DTEND;TZID=America/Los_Angeles:20191003T180000
DTSTAMP:20260419T042212
CREATED:20190820T185542Z
LAST-MODIFIED:20190820T185608Z
UID:10020-1569751200-1570125600@oilextech.com
SUMMARY:IFEAT 2019 Conference
DESCRIPTION:\nDavid will be attending the International Federation of Essential Oils and Aroma Trades Conference https://ifeat.org/ifeat-2019-conference/ in Nusa Dua\, Bali September 29 – October 3\, 2019.  He will be speaking about Solvent Free Microwave Extraction (SEME) and providing comparison to the more traditional steam distillation using our EssenEx® products. \n
URL:https://oilextech.com/event/ifeat-2019-conference/
CATEGORIES:OilExTech Events
END:VEVENT
END:VCALENDAR